BEGIN:VCALENDAR
VERSION:2.0
PRODID:-//Burnet VFD - ECPv6.15.20//NONSGML v1.0//EN
CALSCALE:GREGORIAN
METHOD:PUBLISH
X-ORIGINAL-URL:https://burnetvfd.org
X-WR-CALDESC:Events for Burnet VFD
REFRESH-INTERVAL;VALUE=DURATION:PT1H
X-Robots-Tag:noindex
X-PUBLISHED-TTL:PT1H
BEGIN:VTIMEZONE
TZID:America/New_York
BEGIN:DAYLIGHT
TZOFFSETFROM:-0500
TZOFFSETTO:-0400
TZNAME:EDT
DTSTART:20260308T070000
END:DAYLIGHT
BEGIN:STANDARD
TZOFFSETFROM:-0400
TZOFFSETTO:-0500
TZNAME:EST
DTSTART:20261101T060000
END:STANDARD
BEGIN:DAYLIGHT
TZOFFSETFROM:-0500
TZOFFSETTO:-0400
TZNAME:EDT
DTSTART:20270314T070000
END:DAYLIGHT
BEGIN:STANDARD
TZOFFSETFROM:-0400
TZOFFSETTO:-0500
TZNAME:EST
DTSTART:20271107T060000
END:STANDARD
BEGIN:DAYLIGHT
TZOFFSETFROM:-0500
TZOFFSETTO:-0400
TZNAME:EDT
DTSTART:20280312T070000
END:DAYLIGHT
BEGIN:STANDARD
TZOFFSETFROM:-0400
TZOFFSETTO:-0500
TZNAME:EST
DTSTART:20281105T060000
END:STANDARD
BEGIN:DAYLIGHT
TZOFFSETFROM:-0500
TZOFFSETTO:-0400
TZNAME:EDT
DTSTART:20290311T070000
END:DAYLIGHT
BEGIN:STANDARD
TZOFFSETFROM:-0400
TZOFFSETTO:-0500
TZNAME:EST
DTSTART:20291104T060000
END:STANDARD
END:VTIMEZONE
BEGIN:VEVENT
DTSTART;TZID=America/New_York:20270824T190000
DTEND;TZID=America/New_York:20270824T220000
DTSTAMP:20260425T065001
CREATED:20240221T162501Z
LAST-MODIFIED:20240221T162501Z
UID:10000164-1819134000-1819144800@burnetvfd.org
SUMMARY:Training Meeting
DESCRIPTION:
URL:https://burnetvfd.org/event/training-meeting-2/2027-08-24/
LOCATION:Burnet VFD\, 104 S. Thomberg\, Burnet\, TX\, 78611
CATEGORIES:Training
END:VEVENT
BEGIN:VEVENT
DTSTART;TZID=America/New_York:20270907T190000
DTEND;TZID=America/New_York:20270907T220000
DTSTAMP:20260425T065001
CREATED:20240221T162216Z
LAST-MODIFIED:20240221T162216Z
UID:10000043-1820343600-1820354400@burnetvfd.org
SUMMARY:Business Meeting
DESCRIPTION:
URL:https://burnetvfd.org/event/business-meeting/2027-09-07/
LOCATION:Burnet VFD\, 104 S. Thomberg\, Burnet\, TX\, 78611
END:VEVENT
BEGIN:VEVENT
DTSTART;TZID=America/New_York:20270921T183000
DTEND;TZID=America/New_York:20270921T220000
DTSTAMP:20260425T065001
CREATED:20240221T162325Z
LAST-MODIFIED:20240221T162325Z
UID:10000104-1821551400-1821564000@burnetvfd.org
SUMMARY:Training Meeting
DESCRIPTION:
URL:https://burnetvfd.org/event/training-meeting/2027-09-21/
LOCATION:Burnet VFD\, 104 S. Thomberg\, Burnet\, TX\, 78611
CATEGORIES:Training
END:VEVENT
BEGIN:VEVENT
DTSTART;TZID=America/New_York:20270928T190000
DTEND;TZID=America/New_York:20270928T220000
DTSTAMP:20260425T065001
CREATED:20240221T162501Z
LAST-MODIFIED:20240221T162501Z
UID:10000165-1822158000-1822168800@burnetvfd.org
SUMMARY:Training Meeting
DESCRIPTION:
URL:https://burnetvfd.org/event/training-meeting-2/2027-09-28/
LOCATION:Burnet VFD\, 104 S. Thomberg\, Burnet\, TX\, 78611
CATEGORIES:Training
END:VEVENT
BEGIN:VEVENT
DTSTART;TZID=America/New_York:20271005T190000
DTEND;TZID=America/New_York:20271005T220000
DTSTAMP:20260425T065001
CREATED:20240221T162216Z
LAST-MODIFIED:20240221T162216Z
UID:10000044-1822762800-1822773600@burnetvfd.org
SUMMARY:Business Meeting
DESCRIPTION:
URL:https://burnetvfd.org/event/business-meeting/2027-10-05/
LOCATION:Burnet VFD\, 104 S. Thomberg\, Burnet\, TX\, 78611
END:VEVENT
BEGIN:VEVENT
DTSTART;TZID=America/New_York:20271019T183000
DTEND;TZID=America/New_York:20271019T220000
DTSTAMP:20260425T065001
CREATED:20240221T162325Z
LAST-MODIFIED:20240221T162325Z
UID:10000105-1823970600-1823983200@burnetvfd.org
SUMMARY:Training Meeting
DESCRIPTION:
URL:https://burnetvfd.org/event/training-meeting/2027-10-19/
LOCATION:Burnet VFD\, 104 S. Thomberg\, Burnet\, TX\, 78611
CATEGORIES:Training
END:VEVENT
BEGIN:VEVENT
DTSTART;TZID=America/New_York:20271026T190000
DTEND;TZID=America/New_York:20271026T220000
DTSTAMP:20260425T065001
CREATED:20240221T162501Z
LAST-MODIFIED:20240221T162501Z
UID:10000166-1824577200-1824588000@burnetvfd.org
SUMMARY:Training Meeting
DESCRIPTION:
URL:https://burnetvfd.org/event/training-meeting-2/2027-10-26/
LOCATION:Burnet VFD\, 104 S. Thomberg\, Burnet\, TX\, 78611
CATEGORIES:Training
END:VEVENT
BEGIN:VEVENT
DTSTART;TZID=America/New_York:20271102T190000
DTEND;TZID=America/New_York:20271102T220000
DTSTAMP:20260425T065001
CREATED:20240221T162216Z
LAST-MODIFIED:20240221T162216Z
UID:10000045-1825182000-1825192800@burnetvfd.org
SUMMARY:Business Meeting
DESCRIPTION:
URL:https://burnetvfd.org/event/business-meeting/2027-11-02/
LOCATION:Burnet VFD\, 104 S. Thomberg\, Burnet\, TX\, 78611
END:VEVENT
BEGIN:VEVENT
DTSTART;TZID=America/New_York:20271116T183000
DTEND;TZID=America/New_York:20271116T220000
DTSTAMP:20260425T065001
CREATED:20240221T162325Z
LAST-MODIFIED:20240221T162325Z
UID:10000106-1826389800-1826402400@burnetvfd.org
SUMMARY:Training Meeting
DESCRIPTION:
URL:https://burnetvfd.org/event/training-meeting/2027-11-16/
LOCATION:Burnet VFD\, 104 S. Thomberg\, Burnet\, TX\, 78611
CATEGORIES:Training
END:VEVENT
BEGIN:VEVENT
DTSTART;TZID=America/New_York:20271123T190000
DTEND;TZID=America/New_York:20271123T220000
DTSTAMP:20260425T065001
CREATED:20240221T162501Z
LAST-MODIFIED:20240221T162501Z
UID:10000167-1826996400-1827007200@burnetvfd.org
SUMMARY:Training Meeting
DESCRIPTION:
URL:https://burnetvfd.org/event/training-meeting-2/2027-11-23/
LOCATION:Burnet VFD\, 104 S. Thomberg\, Burnet\, TX\, 78611
CATEGORIES:Training
END:VEVENT
BEGIN:VEVENT
DTSTART;TZID=America/New_York:20271207T190000
DTEND;TZID=America/New_York:20271207T220000
DTSTAMP:20260425T065001
CREATED:20240221T162216Z
LAST-MODIFIED:20240221T162216Z
UID:10000046-1828206000-1828216800@burnetvfd.org
SUMMARY:Business Meeting
DESCRIPTION:
URL:https://burnetvfd.org/event/business-meeting/2027-12-07/
LOCATION:Burnet VFD\, 104 S. Thomberg\, Burnet\, TX\, 78611
END:VEVENT
BEGIN:VEVENT
DTSTART;TZID=America/New_York:20271221T183000
DTEND;TZID=America/New_York:20271221T220000
DTSTAMP:20260425T065001
CREATED:20240221T162325Z
LAST-MODIFIED:20240221T162325Z
UID:10000107-1829413800-1829426400@burnetvfd.org
SUMMARY:Training Meeting
DESCRIPTION:
URL:https://burnetvfd.org/event/training-meeting/2027-12-21/
LOCATION:Burnet VFD\, 104 S. Thomberg\, Burnet\, TX\, 78611
CATEGORIES:Training
END:VEVENT
BEGIN:VEVENT
DTSTART;TZID=America/New_York:20271228T190000
DTEND;TZID=America/New_York:20271228T220000
DTSTAMP:20260425T065001
CREATED:20240221T162501Z
LAST-MODIFIED:20240221T162501Z
UID:10000168-1830020400-1830031200@burnetvfd.org
SUMMARY:Training Meeting
DESCRIPTION:
URL:https://burnetvfd.org/event/training-meeting-2/2027-12-28/
LOCATION:Burnet VFD\, 104 S. Thomberg\, Burnet\, TX\, 78611
CATEGORIES:Training
END:VEVENT
BEGIN:VEVENT
DTSTART;TZID=America/New_York:20280104T190000
DTEND;TZID=America/New_York:20280104T220000
DTSTAMP:20260425T065001
CREATED:20240221T162216Z
LAST-MODIFIED:20240221T162216Z
UID:10000047-1830625200-1830636000@burnetvfd.org
SUMMARY:Business Meeting
DESCRIPTION:
URL:https://burnetvfd.org/event/business-meeting/2028-01-04/
LOCATION:Burnet VFD\, 104 S. Thomberg\, Burnet\, TX\, 78611
END:VEVENT
BEGIN:VEVENT
DTSTART;TZID=America/New_York:20280118T183000
DTEND;TZID=America/New_York:20280118T220000
DTSTAMP:20260425T065001
CREATED:20240221T162325Z
LAST-MODIFIED:20240221T162325Z
UID:10000108-1831833000-1831845600@burnetvfd.org
SUMMARY:Training Meeting
DESCRIPTION:
URL:https://burnetvfd.org/event/training-meeting/2028-01-18/
LOCATION:Burnet VFD\, 104 S. Thomberg\, Burnet\, TX\, 78611
CATEGORIES:Training
END:VEVENT
BEGIN:VEVENT
DTSTART;TZID=America/New_York:20280125T190000
DTEND;TZID=America/New_York:20280125T220000
DTSTAMP:20260425T065001
CREATED:20240221T162501Z
LAST-MODIFIED:20240221T162501Z
UID:10000169-1832439600-1832450400@burnetvfd.org
SUMMARY:Training Meeting
DESCRIPTION:
URL:https://burnetvfd.org/event/training-meeting-2/2028-01-25/
LOCATION:Burnet VFD\, 104 S. Thomberg\, Burnet\, TX\, 78611
CATEGORIES:Training
END:VEVENT
BEGIN:VEVENT
DTSTART;TZID=America/New_York:20280201T190000
DTEND;TZID=America/New_York:20280201T220000
DTSTAMP:20260425T065001
CREATED:20240221T162216Z
LAST-MODIFIED:20240221T162216Z
UID:10000048-1833044400-1833055200@burnetvfd.org
SUMMARY:Business Meeting
DESCRIPTION:
URL:https://burnetvfd.org/event/business-meeting/2028-02-01/
LOCATION:Burnet VFD\, 104 S. Thomberg\, Burnet\, TX\, 78611
END:VEVENT
BEGIN:VEVENT
DTSTART;TZID=America/New_York:20280215T183000
DTEND;TZID=America/New_York:20280215T220000
DTSTAMP:20260425T065001
CREATED:20240221T162325Z
LAST-MODIFIED:20240221T162325Z
UID:10000109-1834252200-1834264800@burnetvfd.org
SUMMARY:Training Meeting
DESCRIPTION:
URL:https://burnetvfd.org/event/training-meeting/2028-02-15/
LOCATION:Burnet VFD\, 104 S. Thomberg\, Burnet\, TX\, 78611
CATEGORIES:Training
END:VEVENT
BEGIN:VEVENT
DTSTART;TZID=America/New_York:20280222T190000
DTEND;TZID=America/New_York:20280222T220000
DTSTAMP:20260425T065001
CREATED:20240221T162501Z
LAST-MODIFIED:20240221T162501Z
UID:10000170-1834858800-1834869600@burnetvfd.org
SUMMARY:Training Meeting
DESCRIPTION:
URL:https://burnetvfd.org/event/training-meeting-2/2028-02-22/
LOCATION:Burnet VFD\, 104 S. Thomberg\, Burnet\, TX\, 78611
CATEGORIES:Training
END:VEVENT
BEGIN:VEVENT
DTSTART;TZID=America/New_York:20280307T190000
DTEND;TZID=America/New_York:20280307T220000
DTSTAMP:20260425T065001
CREATED:20240221T162216Z
LAST-MODIFIED:20240221T162216Z
UID:10000049-1836068400-1836079200@burnetvfd.org
SUMMARY:Business Meeting
DESCRIPTION:
URL:https://burnetvfd.org/event/business-meeting/2028-03-07/
LOCATION:Burnet VFD\, 104 S. Thomberg\, Burnet\, TX\, 78611
END:VEVENT
BEGIN:VEVENT
DTSTART;TZID=America/New_York:20280321T183000
DTEND;TZID=America/New_York:20280321T220000
DTSTAMP:20260425T065001
CREATED:20240221T162325Z
LAST-MODIFIED:20240221T162325Z
UID:10000110-1837276200-1837288800@burnetvfd.org
SUMMARY:Training Meeting
DESCRIPTION:
URL:https://burnetvfd.org/event/training-meeting/2028-03-21/
LOCATION:Burnet VFD\, 104 S. Thomberg\, Burnet\, TX\, 78611
CATEGORIES:Training
END:VEVENT
BEGIN:VEVENT
DTSTART;TZID=America/New_York:20280328T190000
DTEND;TZID=America/New_York:20280328T220000
DTSTAMP:20260425T065001
CREATED:20240221T162501Z
LAST-MODIFIED:20240221T162501Z
UID:10000171-1837882800-1837893600@burnetvfd.org
SUMMARY:Training Meeting
DESCRIPTION:
URL:https://burnetvfd.org/event/training-meeting-2/2028-03-28/
LOCATION:Burnet VFD\, 104 S. Thomberg\, Burnet\, TX\, 78611
CATEGORIES:Training
END:VEVENT
BEGIN:VEVENT
DTSTART;TZID=America/New_York:20280404T190000
DTEND;TZID=America/New_York:20280404T220000
DTSTAMP:20260425T065001
CREATED:20240221T162216Z
LAST-MODIFIED:20240221T162216Z
UID:10000050-1838487600-1838498400@burnetvfd.org
SUMMARY:Business Meeting
DESCRIPTION:
URL:https://burnetvfd.org/event/business-meeting/2028-04-04/
LOCATION:Burnet VFD\, 104 S. Thomberg\, Burnet\, TX\, 78611
END:VEVENT
BEGIN:VEVENT
DTSTART;TZID=America/New_York:20280418T183000
DTEND;TZID=America/New_York:20280418T220000
DTSTAMP:20260425T065001
CREATED:20240221T162325Z
LAST-MODIFIED:20240221T162325Z
UID:10000111-1839695400-1839708000@burnetvfd.org
SUMMARY:Training Meeting
DESCRIPTION:
URL:https://burnetvfd.org/event/training-meeting/2028-04-18/
LOCATION:Burnet VFD\, 104 S. Thomberg\, Burnet\, TX\, 78611
CATEGORIES:Training
END:VEVENT
BEGIN:VEVENT
DTSTART;TZID=America/New_York:20280425T190000
DTEND;TZID=America/New_York:20280425T220000
DTSTAMP:20260425T065001
CREATED:20240221T162501Z
LAST-MODIFIED:20240221T162501Z
UID:10000172-1840302000-1840312800@burnetvfd.org
SUMMARY:Training Meeting
DESCRIPTION:
URL:https://burnetvfd.org/event/training-meeting-2/2028-04-25/
LOCATION:Burnet VFD\, 104 S. Thomberg\, Burnet\, TX\, 78611
CATEGORIES:Training
END:VEVENT
BEGIN:VEVENT
DTSTART;TZID=America/New_York:20280502T190000
DTEND;TZID=America/New_York:20280502T220000
DTSTAMP:20260425T065001
CREATED:20240221T162216Z
LAST-MODIFIED:20240221T162216Z
UID:10000051-1840906800-1840917600@burnetvfd.org
SUMMARY:Business Meeting
DESCRIPTION:
URL:https://burnetvfd.org/event/business-meeting/2028-05-02/
LOCATION:Burnet VFD\, 104 S. Thomberg\, Burnet\, TX\, 78611
END:VEVENT
BEGIN:VEVENT
DTSTART;TZID=America/New_York:20280516T183000
DTEND;TZID=America/New_York:20280516T220000
DTSTAMP:20260425T065001
CREATED:20240221T162325Z
LAST-MODIFIED:20240221T162325Z
UID:10000112-1842114600-1842127200@burnetvfd.org
SUMMARY:Training Meeting
DESCRIPTION:
URL:https://burnetvfd.org/event/training-meeting/2028-05-16/
LOCATION:Burnet VFD\, 104 S. Thomberg\, Burnet\, TX\, 78611
CATEGORIES:Training
END:VEVENT
BEGIN:VEVENT
DTSTART;TZID=America/New_York:20280523T190000
DTEND;TZID=America/New_York:20280523T220000
DTSTAMP:20260425T065001
CREATED:20240221T162501Z
LAST-MODIFIED:20240221T162501Z
UID:10000173-1842721200-1842732000@burnetvfd.org
SUMMARY:Training Meeting
DESCRIPTION:
URL:https://burnetvfd.org/event/training-meeting-2/2028-05-23/
LOCATION:Burnet VFD\, 104 S. Thomberg\, Burnet\, TX\, 78611
CATEGORIES:Training
END:VEVENT
BEGIN:VEVENT
DTSTART;TZID=America/New_York:20280606T190000
DTEND;TZID=America/New_York:20280606T220000
DTSTAMP:20260425T065001
CREATED:20240221T162216Z
LAST-MODIFIED:20240221T162216Z
UID:10000052-1843930800-1843941600@burnetvfd.org
SUMMARY:Business Meeting
DESCRIPTION:
URL:https://burnetvfd.org/event/business-meeting/2028-06-06/
LOCATION:Burnet VFD\, 104 S. Thomberg\, Burnet\, TX\, 78611
END:VEVENT
BEGIN:VEVENT
DTSTART;TZID=America/New_York:20280620T183000
DTEND;TZID=America/New_York:20280620T220000
DTSTAMP:20260425T065001
CREATED:20240221T162325Z
LAST-MODIFIED:20240221T162325Z
UID:10000113-1845138600-1845151200@burnetvfd.org
SUMMARY:Training Meeting
DESCRIPTION:
URL:https://burnetvfd.org/event/training-meeting/2028-06-20/
LOCATION:Burnet VFD\, 104 S. Thomberg\, Burnet\, TX\, 78611
CATEGORIES:Training
END:VEVENT
END:VCALENDAR